BEGIN:VCALENDAR
VERSION:2.0
PRODID:-//smgonline.org//eCatholic//EN
X-WR-TIMEZONE:LocalTZ
BEGIN:VTIMEZONE
TZID:LocalTZ
X-LIC-LOCATION:LocalTZ
BEGIN:DAYLIGHT
TZOFFSETFROM:-0500
TZOFFSETTO:-0400
TZNAME:LocalTZ
DTSTART:19700308T020000
RRULE:FREQ=YEARLY;BYMONTH=3;BYDAY=2SU
END:DAYLIGHT
BEGIN:STANDARD
TZOFFSETFROM:-0400
TZOFFSETTO:-0500
TZNAME:LocalTZ
DTSTART:19701101T020000
RRULE:FREQ=YEARLY;BYMONTH=11;BYDAY=1SU
END:STANDARD
END:VTIMEZONE
BEGIN:VEVENT
UID:3043463@smgonline.org
DTSTAMP:20260420T003746Z
DTSTART:20260422T190000
DTEND:20260422T200000
SUMMARY:EMHC: Recertification for Current EMHC's
DESCRIPTION:EMHC are lay men and women who are called to assist the Ordina
 ry Ministers of Holy Communion (Priests and Deacons) in distributing the B
 ody and Blood of Jesus to the congregation at Mass or to the homebound. We
  are in need of more EMHC at all weekend Masses\, especially at the Saturd
 ay\, 4:30pm and Sunday\, 10am and 5:30pm Masses. EMHCs are required to be 
 a practicing Catholic and to have a regular scheduled Adoration Hour. If y
 ou need more info\, contact Kathy Lengerich at 317-460-1789 or KRLteacher@
 aol.com. 
END:VEVENT
BEGIN:VEVENT
UID:3043467@smgonline.org
DTSTAMP:20260420T003746Z
DTSTART:20260423T190000
DTEND:20260423T210000
SUMMARY:EMHC: Formation for NEW (Mass) EMHC
DESCRIPTION:EMHC are lay men and women who are called to assist the Ordina
 ry Ministers of Holy Communion (Priests and Deacons) in distributing the B
 ody and Blood of Jesus to the congregation at Mass or to the homebound. We
  are in need of more EMHC at all weekend Masses\, especially at the Saturd
 ay\, 4:30pm and Sunday\, 10am and 5:30pm Masses. EMHCs are required to be 
 a practicing Catholic and to have a regular scheduled Adoration Hour. If y
 ou need more info\, contact Kathy Lengerich at 317-460-1789 or KRLteacher@
 aol.com. \n
END:VEVENT
BEGIN:VEVENT
UID:3043470@smgonline.org
DTSTAMP:20260420T003746Z
DTSTART:20260424T090000
DTEND:20260424T100000
SUMMARY:EMHC: Recertification for Current EMHC's
DESCRIPTION:EMHC are lay men and women who are called to assist the Ordina
 ry Ministers of Holy Communion (Priests and Deacons) in distributing the B
 ody and Blood of Jesus to the congregation at Mass or to the homebound. We
  are in need of more EMHC at all weekend Masses\, especially at the Saturd
 ay\, 4:30pm and Sunday\, 10am and 5:30pm Masses. EMHCs are required to be 
 a practicing Catholic and to have a regular scheduled Adoration Hour. If y
 ou need more info\, contact Kathy Lengerich at 317-460-1789 or KRLteacher@
 aol.com. 
END:VEVENT
BEGIN:VEVENT
UID:3043472@smgonline.org
DTSTAMP:20260420T003746Z
DTSTART:20260425T090000
DTEND:20260425T100000
SUMMARY:EMHC: Recertification for Current EMHC's
DESCRIPTION:EMHC are lay men and women who are called to assist the Ordina
 ry Ministers of Holy Communion (Priests and Deacons) in distributing the B
 ody and Blood of Jesus to the congregation at Mass or to the homebound. We
  are in need of more EMHC at all weekend Masses\, especially at the Saturd
 ay\, 4:30pm and Sunday\, 10am and 5:30pm Masses. EMHCs are required to be 
 a practicing Catholic and to have a regular scheduled Adoration Hour. If y
 ou need more info\, contact Kathy Lengerich at 317-460-1789 or KRLteacher@
 aol.com. 
END:VEVENT
BEGIN:VEVENT
UID:3043514@smgonline.org
DTSTAMP:20260420T003746Z
DTSTART:20260425T100000
DTEND:20260425T110000
SUMMARY:EMHC: Formation and Recertification for Homebound and Retirement H
 omes
DESCRIPTION:EMHC are lay men and women who are called to assist the Ordina
 ry Ministers of Holy Communion (Priests and Deacons) in distributing the B
 ody and Blood of Jesus to the congregation at Mass or to the homebound. We
  are in need of more EMHC at all weekend Masses\, especially at the Saturd
 ay\, 4:30pm and Sunday\, 10am and 5:30pm Masses. EMHCs are required to be 
 a practicing Catholic and to have a regular scheduled Adoration Hour. If y
 ou need more info\, contact Kathy Lengerich at 317-460-1789 or KRLteacher@
 aol.com. 
END:VEVENT
BEGIN:VEVENT
UID:3043518@smgonline.org
DTSTAMP:20260420T003746Z
DTSTART:20260427T190000
DTEND:20260427T200000
SUMMARY:EMHC: Recertification for Current EMHC's
DESCRIPTION:EMHC are lay men and women who are called to assist the Ordina
 ry Ministers of Holy Communion (Priests and Deacons) in distributing the B
 ody and Blood of Jesus to the congregation at Mass or to the homebound. We
  are in need of more EMHC at all weekend Masses\, especially at the Saturd
 ay\, 4:30pm and Sunday\, 10am and 5:30pm Masses. EMHCs are required to be 
 a practicing Catholic and to have a regular scheduled Adoration Hour. If y
 ou need more info\, contact Kathy Lengerich at 317-460-1789 or KRLteacher@
 aol.com. \n
END:VEVENT
BEGIN:VEVENT
UID:3043531@smgonline.org
DTSTAMP:20260420T003746Z
DTSTART:20260428T190000
DTEND:20260428T200000
SUMMARY:EMHC: Formation and Recertification for Homebound and Retirement H
 omes
DESCRIPTION:EMHC are lay men and women who are called to assist the Ordina
 ry Ministers of Holy Communion (Priests and Deacons) in distributing the B
 ody and Blood of Jesus to the congregation at Mass or to the homebound. We
  are in need of more EMHC at all weekend Masses\, especially at the Saturd
 ay\, 4:30pm and Sunday\, 10am and 5:30pm Masses. EMHCs are required to be 
 a practicing Catholic and to have a regular scheduled Adoration Hour. If y
 ou need more info\, contact Kathy Lengerich at 317-460-1789 or KRLteacher@
 aol.com. \n
END:VEVENT
BEGIN:VEVENT
UID:3043535@smgonline.org
DTSTAMP:20260420T003746Z
DTSTART:20260506T190000
DTEND:20260506T210000
SUMMARY:EMHC: Formation for NEW (Mass) EMHC
DESCRIPTION:EMHC are lay men and women who are called to assist the Ordina
 ry Ministers of Holy Communion (Priests and Deacons) in distributing the B
 ody and Blood of Jesus to the congregation at Mass or to the homebound. We
  are in need of more EMHC at all weekend Masses\, especially at the Saturd
 ay\, 4:30pm and Sunday\, 10am and 5:30pm Masses. EMHCs are required to be 
 a practicing Catholic and to have a regular scheduled Adoration Hour. If y
 ou need more info\, contact Kathy Lengerich at 317-460-1789 or KRLteacher@
 aol.com. \n
END:VEVENT
END:VCALENDAR
